Package: OUTRIDER Version: 1.26.3 Command: /home/biocbuild/R/R/bin/R CMD INSTALL OUTRIDER StartedAt: 2025-10-13 20:55:12 -0000 (Mon, 13 Oct 2025) EndedAt: 2025-10-13 20:56:42 -0000 (Mon, 13 Oct 2025) EllapsedTime: 90.0 seconds RetCode: 0 Status: OK