Package: OUTRIDER Version: 1.26.3 Command: rm -rf OUTRIDER.buildbin-libdir && mkdir OUTRIDER.buildbin-libdir && /Users/biocbuild/BBS/utils/build-universal.sh OUTRIDER_1.26.3.tar.gz /Library/Frameworks/R.framework/Resources/bin/R OUTRIDER.buildbin-libdir StartedAt: 2025-10-15 19:42:58 -0400 (Wed, 15 Oct 2025) EndedAt: 2025-10-15 19:44:11 -0400 (Wed, 15 Oct 2025) EllapsedTime: 73.4 seconds RetCode: 0 Status: OK PackageFile: OUTRIDER_1.26.3.tgz PackageFileSize: 2.582 MiB