Package: OSTA.data Version: 1.0.0 Command: rm -rf OSTA.data.buildbin-libdir && mkdir OSTA.data.buildbin-libdir && E:\biocbuild\bbs-3.21-bioc\R\bin\R.exe CMD INSTALL --build --library=OSTA.data.buildbin-libdir OSTA.data_1.0.0.tar.gz StartedAt: 2025-08-15 09:53:51 -0400 (Fri, 15 Aug 2025) EndedAt: 2025-08-15 09:54:01 -0400 (Fri, 15 Aug 2025) EllapsedTime: 9.7 seconds RetCode: 0 Status: OK PackageFile: OSTA.data_1.0.0.zip PackageFileSize: 310.6 KiB