Package: OSTA.data Version: 1.0.0 Command: /Library/Frameworks/R.framework/Resources/bin/R CMD check --install=check:OSTA.data.install-out.txt --library=/Library/Frameworks/R.framework/Resources/library --no-vignettes --timings OSTA.data_1.0.0.tar.gz StartedAt: 2025-04-21 22:26:35 -0400 (Mon, 21 Apr 2025) EndedAt: 2025-04-21 22:27:52 -0400 (Mon, 21 Apr 2025) EllapsedTime: 76.7 seconds RetCode: 0 Status: OK CheckDir: OSTA.data.Rcheck Warnings: 0