Package: OSTA.data Version: 1.0.0 Command: /home/biocbuild/R/R/bin/R CMD build --keep-empty-dirs --no-resave-data OSTA.data StartedAt: 2025-10-14 03:17:21 -0000 (Tue, 14 Oct 2025) EndedAt: 2025-10-14 03:19:04 -0000 (Tue, 14 Oct 2025) EllapsedTime: 103.1 seconds RetCode: 1 Status: ERROR PackageFile: None PackageFileSize: NA