Package: OSTA.data Version: 1.0.0 Command: /Library/Frameworks/R.framework/Resources/bin/R CMD check --install=check:OSTA.data.install-out.txt --library=/Library/Frameworks/R.framework/Resources/library --no-vignettes --timings OSTA.data_1.0.0.tar.gz StartedAt: 2025-10-04 06:18:33 -0400 (Sat, 04 Oct 2025) EndedAt: 2025-10-04 06:19:48 -0400 (Sat, 04 Oct 2025) EllapsedTime: 75.7 seconds RetCode: 0 Status: OK CheckDir: OSTA.data.Rcheck Warnings: 0