Package: ORFik Version: 1.28.3 Command: /Library/Frameworks/R.framework/Resources/bin/R CMD check --install=check:ORFik.install-out.txt --library=/Library/Frameworks/R.framework/Resources/library --no-vignettes --timings ORFik_1.28.3.tar.gz StartedAt: 2025-09-26 07:33:55 -0400 (Fri, 26 Sep 2025) EndedAt: 2025-09-26 07:57:43 -0400 (Fri, 26 Sep 2025) EllapsedTime: 1427.5 seconds RetCode: 0 Status: OK CheckDir: ORFik.Rcheck Warnings: 0