Package: ORFhunteR Version: 1.16.0 Command: /home/biocbuild/bbs-3.21-bioc/R/bin/R CMD INSTALL ORFhunteR StartedAt: 2025-10-15 15:34:13 -0400 (Wed, 15 Oct 2025) EndedAt: 2025-10-15 15:34:56 -0400 (Wed, 15 Oct 2025) EllapsedTime: 43.5 seconds RetCode: 0 Status: OK