Package: OPWeight Version: 1.30.0 Command: /home/biocbuild/bbs-3.21-bioc/R/bin/R CMD INSTALL OPWeight StartedAt: 2025-10-15 15:07:20 -0400 (Wed, 15 Oct 2025) EndedAt: 2025-10-15 15:07:36 -0400 (Wed, 15 Oct 2025) EllapsedTime: 15.8 seconds RetCode: 0 Status: OK