Package: OPWeight Version: 1.30.0 Command: /Library/Frameworks/R.framework/Resources/bin/R CMD check --install=check:OPWeight.install-out.txt --library=/Library/Frameworks/R.framework/Resources/library --no-vignettes --timings OPWeight_1.30.0.tar.gz StartedAt: 2025-04-21 22:25:25 -0400 (Mon, 21 Apr 2025) EndedAt: 2025-04-21 22:26:20 -0400 (Mon, 21 Apr 2025) EllapsedTime: 55.1 seconds RetCode: 0 Status: OK CheckDir: OPWeight.Rcheck Warnings: 0