Package: OPWeight Version: 1.30.0 Command: /home/biocbuild/R/R/bin/R CMD INSTALL OPWeight StartedAt: 2025-10-13 20:18:55 -0000 (Mon, 13 Oct 2025) EndedAt: 2025-10-13 20:19:37 -0000 (Mon, 13 Oct 2025) EllapsedTime: 42.1 seconds RetCode: 0 Status: OK