Package: OPWeight Version: 1.30.0 Command: /home/biocbuild/R/R/bin/R CMD build --keep-empty-dirs --no-resave-data OPWeight StartedAt: 2025-10-14 03:14:35 -0000 (Tue, 14 Oct 2025) EndedAt: 2025-10-14 03:18:32 -0000 (Tue, 14 Oct 2025) EllapsedTime: 236.7 seconds RetCode: 0 Status: OK PackageFile: OPWeight_1.30.0.tar.gz PackageFileSize: 502.4 KiB