Package: OPWeight Version: 1.30.0 Command: /Library/Frameworks/R.framework/Resources/bin/R CMD build --keep-empty-dirs --no-resave-data OPWeight StartedAt: 2025-10-14 06:02:50 -0400 (Tue, 14 Oct 2025) EndedAt: 2025-10-14 06:05:20 -0400 (Tue, 14 Oct 2025) EllapsedTime: 150.0 seconds RetCode: 0 Status: OK PackageFile: OPWeight_1.30.0.tar.gz PackageFileSize: 491.5 KiB