Package: OPWeight Version: 1.30.0 Command: rm -rf OPWeight.buildbin-libdir && mkdir OPWeight.buildbin-libdir && /Users/biocbuild/BBS/utils/build-universal.sh OPWeight_1.30.0.tar.gz /Library/Frameworks/R.framework/Resources/bin/R OPWeight.buildbin-libdir StartedAt: 2025-10-15 19:41:42 -0400 (Wed, 15 Oct 2025) EndedAt: 2025-10-15 19:41:50 -0400 (Wed, 15 Oct 2025) EllapsedTime: 7.7 seconds RetCode: 0 Status: OK PackageFile: OPWeight_1.30.0.tgz PackageFileSize: 524 KiB