Package: OLINgui Version: 1.82.0 Command: E:\biocbuild\bbs-3.21-bioc\R\bin\R.exe CMD check --no-multiarch --install=check:OLINgui.install-out.txt --library=E:\biocbuild\bbs-3.21-bioc\R\library --no-vignettes --timings OLINgui_1.82.0.tar.gz StartedAt: 2025-08-15 04:58:23 -0400 (Fri, 15 Aug 2025) EndedAt: 2025-08-15 04:59:13 -0400 (Fri, 15 Aug 2025) EllapsedTime: 50.3 seconds RetCode: 0 Status: OK CheckDir: OLINgui.Rcheck Warnings: 0