Package: OLINgui Version: 1.82.0 Command: chmod a+r OLINgui -R && E:\biocbuild\bbs-3.21-bioc\R\bin\R.exe CMD build --keep-empty-dirs --no-resave-data OLINgui StartedAt: 2025-08-14 20:55:34 -0400 (Thu, 14 Aug 2025) EndedAt: 2025-08-14 20:55:52 -0400 (Thu, 14 Aug 2025) EllapsedTime: 17.9 seconds RetCode: 0 Status: OK PackageFile: OLINgui_1.82.0.tar.gz PackageFileSize: 233.9 KiB