Package: OLINgui Version: 1.82.0 Command: /Library/Frameworks/R.framework/Resources/bin/R CMD build --keep-empty-dirs --no-resave-data OLINgui StartedAt: 2025-10-13 21:12:41 -0400 (Mon, 13 Oct 2025) EndedAt: 2025-10-13 21:13:06 -0400 (Mon, 13 Oct 2025) EllapsedTime: 24.4 seconds RetCode: 0 Status: OK PackageFile: OLINgui_1.82.0.tar.gz PackageFileSize: 373.7 KiB