Package: OLINgui Version: 1.82.0 Command: /Library/Frameworks/R.framework/Resources/bin/R CMD check --install=check:OLINgui.install-out.txt --library=/Library/Frameworks/R.framework/Resources/library --no-vignettes --timings OLINgui_1.82.0.tar.gz StartedAt: 2025-10-15 06:15:34 -0400 (Wed, 15 Oct 2025) EndedAt: 2025-10-15 06:16:15 -0400 (Wed, 15 Oct 2025) EllapsedTime: 41.3 seconds RetCode: 0 Status: OK CheckDir: OLINgui.Rcheck Warnings: 0