Package: OLIN Version: 1.86.0 Command: E:\biocbuild\bbs-3.21-bioc\R\bin\R.exe CMD INSTALL OLIN StartedAt: 2025-08-14 15:22:54 -0400 (Thu, 14 Aug 2025) EndedAt: 2025-08-14 15:23:23 -0400 (Thu, 14 Aug 2025) EllapsedTime: 28.5 seconds RetCode: 0 Status: OK