Package: OLIN Version: 1.86.0 Command: chmod a+r OLIN -R && E:\biocbuild\bbs-3.21-bioc\R\bin\R.exe CMD build --keep-empty-dirs --no-resave-data OLIN StartedAt: 2025-08-14 20:55:23 -0400 (Thu, 14 Aug 2025) EndedAt: 2025-08-14 20:56:11 -0400 (Thu, 14 Aug 2025) EllapsedTime: 47.5 seconds RetCode: 0 Status: OK PackageFile: OLIN_1.86.0.tar.gz PackageFileSize: 2.419 MiB