Package: OLIN Version: 1.86.0 Command: rm -rf OLIN.buildbin-libdir && mkdir OLIN.buildbin-libdir && E:\biocbuild\bbs-3.21-bioc\R\bin\R.exe CMD INSTALL --build --library=OLIN.buildbin-libdir OLIN_1.86.0.tar.gz StartedAt: 2025-08-15 09:51:49 -0400 (Fri, 15 Aug 2025) EndedAt: 2025-08-15 09:52:08 -0400 (Fri, 15 Aug 2025) EllapsedTime: 18.4 seconds RetCode: 0 Status: OK PackageFile: OLIN_1.86.0.zip PackageFileSize: 2.589 MiB