Package: OLIN Version: 1.86.0 Command: /home/biocbuild/R/R/bin/R CMD INSTALL OLIN StartedAt: 2025-10-13 20:14:41 -0000 (Mon, 13 Oct 2025) EndedAt: 2025-10-13 20:15:07 -0000 (Mon, 13 Oct 2025) EllapsedTime: 26.3 seconds RetCode: 0 Status: OK