Package: OGRE Version: 1.12.0 Command: E:\biocbuild\bbs-3.21-bioc\R\bin\R.exe CMD check --no-multiarch --install=check:OGRE.install-out.txt --library=E:\biocbuild\bbs-3.21-bioc\R\library --no-vignettes --timings OGRE_1.12.0.tar.gz StartedAt: 2025-08-15 04:58:09 -0400 (Fri, 15 Aug 2025) EndedAt: 2025-08-15 05:07:26 -0400 (Fri, 15 Aug 2025) EllapsedTime: 556.5 seconds RetCode: 0 Status: OK CheckDir: OGRE.Rcheck Warnings: 0