Package: OGRE Version: 1.12.0 Command: /home/biocbuild/bbs-3.21-bioc/R/bin/R CMD INSTALL OGRE StartedAt: 2025-10-15 15:46:10 -0400 (Wed, 15 Oct 2025) EndedAt: 2025-10-15 15:47:01 -0400 (Wed, 15 Oct 2025) EllapsedTime: 50.7 seconds RetCode: 0 Status: OK