Package: OGRE Version: 1.12.0 Command: /home/biocbuild/bbs-3.21-bioc/R/bin/R CMD build --keep-empty-dirs --no-resave-data OGRE StartedAt: 2025-10-15 18:54:59 -0400 (Wed, 15 Oct 2025) EndedAt: 2025-10-15 18:56:38 -0400 (Wed, 15 Oct 2025) EllapsedTime: 99.1 seconds RetCode: 0 Status: OK PackageFile: OGRE_1.12.0.tar.gz PackageFileSize: 1.711 MiB