Package: OGRE Version: 1.12.0 Command: /Library/Frameworks/R.framework/Resources/bin/R CMD INSTALL OGRE StartedAt: 2025-10-13 16:25:51 -0400 (Mon, 13 Oct 2025) EndedAt: 2025-10-13 16:27:37 -0400 (Mon, 13 Oct 2025) EllapsedTime: 106.2 seconds RetCode: 0 Status: OK