Package: OGRE Version: 1.12.0 Command: /home/biocbuild/R/R/bin/R CMD check --install=check:OGRE.install-out.txt --library=/home/biocbuild/R/R/site-library --no-vignettes --timings OGRE_1.12.0.tar.gz StartedAt: 2025-10-14 12:04:56 -0000 (Tue, 14 Oct 2025) EndedAt: 2025-10-14 12:16:45 -0000 (Tue, 14 Oct 2025) EllapsedTime: 709.0 seconds RetCode: 0 Status: OK CheckDir: OGRE.Rcheck Warnings: 0