Package: OGRE Version: 1.12.0 Command: /home/biocbuild/R/R/bin/R CMD build --keep-empty-dirs --no-resave-data OGRE StartedAt: 2025-10-14 03:08:29 -0000 (Tue, 14 Oct 2025) EndedAt: 2025-10-14 03:11:30 -0000 (Tue, 14 Oct 2025) EllapsedTime: 181.3 seconds RetCode: 0 Status: OK PackageFile: OGRE_1.12.0.tar.gz PackageFileSize: 1.695 MiB