Package: OCplus Version: 1.82.0 Command: /home/biocbuild/bbs-3.21-bioc/R/bin/R CMD build --keep-empty-dirs --no-resave-data OCplus StartedAt: 2025-10-15 18:54:42 -0400 (Wed, 15 Oct 2025) EndedAt: 2025-10-15 18:55:05 -0400 (Wed, 15 Oct 2025) EllapsedTime: 23.0 seconds RetCode: 0 Status: OK PackageFile: OCplus_1.82.0.tar.gz PackageFileSize: 9.586 MiB