Package: OCplus Version: 1.82.0 Command: /home/biocbuild/R/R/bin/R CMD check --install=check:OCplus.install-out.txt --library=/home/biocbuild/R/R/site-library --no-vignettes --timings OCplus_1.82.0.tar.gz StartedAt: 2025-10-14 12:04:51 -0000 (Tue, 14 Oct 2025) EndedAt: 2025-10-14 12:06:36 -0000 (Tue, 14 Oct 2025) EllapsedTime: 105.2 seconds RetCode: 0 Status: OK CheckDir: OCplus.Rcheck Warnings: 0