Package: OCplus Version: 1.82.0 Command: /home/biocbuild/R/R/bin/R CMD build --keep-empty-dirs --no-resave-data OCplus StartedAt: 2025-10-14 03:07:35 -0000 (Tue, 14 Oct 2025) EndedAt: 2025-10-14 03:08:17 -0000 (Tue, 14 Oct 2025) EllapsedTime: 41.1 seconds RetCode: 0 Status: OK PackageFile: OCplus_1.82.0.tar.gz PackageFileSize: 9.578 MiB