Package: OCplus Version: 1.82.0 Command: /Library/Frameworks/R.framework/Resources/bin/R CMD INSTALL OCplus StartedAt: 2025-10-13 15:57:28 -0400 (Mon, 13 Oct 2025) EndedAt: 2025-10-13 15:57:37 -0400 (Mon, 13 Oct 2025) EllapsedTime: 9.4 seconds RetCode: 0 Status: OK