Package: NuPoP Version: 2.16.0 Command: /home/biocbuild/bbs-3.21-bioc/R/bin/R CMD INSTALL NuPoP StartedAt: 2025-10-15 15:02:26 -0400 (Wed, 15 Oct 2025) EndedAt: 2025-10-15 15:02:53 -0400 (Wed, 15 Oct 2025) EllapsedTime: 26.4 seconds RetCode: 0 Status: OK