Package: NuPoP Version: 2.16.0 Command: /home/biocbuild/bbs-3.21-bioc/R/bin/R CMD build --keep-empty-dirs --no-resave-data NuPoP StartedAt: 2025-10-15 18:54:36 -0400 (Wed, 15 Oct 2025) EndedAt: 2025-10-15 18:54:50 -0400 (Wed, 15 Oct 2025) EllapsedTime: 14.0 seconds RetCode: 0 Status: OK PackageFile: NuPoP_2.16.0.tar.gz PackageFileSize: 6.117 MiB