Package: NuPoP Version: 2.16.0 Command: /Library/Frameworks/R.framework/Resources/bin/R CMD check --install=check:NuPoP.install-out.txt --library=/Library/Frameworks/R.framework/Resources/library --no-vignettes --timings NuPoP_2.16.0.tar.gz StartedAt: 2025-04-21 22:20:39 -0400 (Mon, 21 Apr 2025) EndedAt: 2025-04-21 22:21:17 -0400 (Mon, 21 Apr 2025) EllapsedTime: 38.1 seconds RetCode: 0 Status: OK CheckDir: NuPoP.Rcheck Warnings: 0