Package: NuPoP Version: 2.16.0 Command: /Library/Frameworks/R.framework/Resources/bin/R CMD build --keep-empty-dirs --no-resave-data NuPoP StartedAt: 2025-04-21 17:46:29 -0400 (Mon, 21 Apr 2025) EndedAt: 2025-04-21 17:47:05 -0400 (Mon, 21 Apr 2025) EllapsedTime: 35.9 seconds RetCode: 0 Status: OK PackageFile: NuPoP_2.16.0.tar.gz PackageFileSize: 6.133 MiB