Package: NuPoP Version: 2.16.0 Command: rm -rf NuPoP.buildbin-libdir && mkdir NuPoP.buildbin-libdir && /Users/biocbuild/BBS/utils/build-universal.sh NuPoP_2.16.0.tar.gz /Library/Frameworks/R.framework/Resources/bin/R NuPoP.buildbin-libdir StartedAt: 2025-04-22 00:58:35 -0400 (Tue, 22 Apr 2025) EndedAt: 2025-04-22 00:59:00 -0400 (Tue, 22 Apr 2025) EllapsedTime: 24.5 seconds RetCode: 0 Status: OK PackageFile: NuPoP_2.16.0.tgz PackageFileSize: 4.415 MiB