Package: NuPoP Version: 2.16.0 Command: /home/biocbuild/R/R/bin/R CMD INSTALL NuPoP StartedAt: 2025-10-13 20:13:13 -0000 (Mon, 13 Oct 2025) EndedAt: 2025-10-13 20:13:41 -0000 (Mon, 13 Oct 2025) EllapsedTime: 27.9 seconds RetCode: 0 Status: OK