Package: NuPoP Version: 2.16.0 Command: /home/biocbuild/R/R/bin/R CMD check --install=check:NuPoP.install-out.txt --library=/home/biocbuild/R/R/site-library --no-vignettes --timings NuPoP_2.16.0.tar.gz StartedAt: 2025-10-14 12:04:13 -0000 (Tue, 14 Oct 2025) EndedAt: 2025-10-14 12:04:56 -0000 (Tue, 14 Oct 2025) EllapsedTime: 43.1 seconds RetCode: 0 Status: OK CheckDir: NuPoP.Rcheck Warnings: 0