Package: NormqPCR Version: 1.54.0 Command: /home/biocbuild/bbs-3.21-bioc/R/bin/R CMD build --keep-empty-dirs --no-resave-data NormqPCR StartedAt: 2025-10-15 18:53:07 -0400 (Wed, 15 Oct 2025) EndedAt: 2025-10-15 18:53:33 -0400 (Wed, 15 Oct 2025) EllapsedTime: 26.0 seconds RetCode: 0 Status: OK PackageFile: NormqPCR_1.54.0.tar.gz PackageFileSize: 418 KiB