Package: NormalyzerDE Version: 1.26.0 Command: /Library/Frameworks/R.framework/Resources/bin/R CMD check --install=check:NormalyzerDE.install-out.txt --library=/Library/Frameworks/R.framework/Resources/library --no-vignettes --timings NormalyzerDE_1.26.0.tar.gz StartedAt: 2025-10-14 07:32:16 -0400 (Tue, 14 Oct 2025) EndedAt: 2025-10-14 07:40:22 -0400 (Tue, 14 Oct 2025) EllapsedTime: 486.6 seconds RetCode: 0 Status: WARNINGS CheckDir: NormalyzerDE.Rcheck Warnings: 1