Package: NormalyzerDE Version: 1.26.0 Command: rm -rf NormalyzerDE.buildbin-libdir && mkdir NormalyzerDE.buildbin-libdir && /Users/biocbuild/BBS/utils/build-universal.sh NormalyzerDE_1.26.0.tar.gz /Library/Frameworks/R.framework/Resources/bin/R NormalyzerDE.buildbin-libdir StartedAt: 2025-10-14 14:16:19 -0400 (Tue, 14 Oct 2025) EndedAt: 2025-10-14 14:17:31 -0400 (Tue, 14 Oct 2025) EllapsedTime: 71.3 seconds RetCode: 0 Status: OK PackageFile: NormalyzerDE_1.26.0.tgz PackageFileSize: 1.355 MiB