Package: NormalyzerDE Version: 1.26.0 Command: /Library/Frameworks/R.framework/Resources/bin/R CMD INSTALL NormalyzerDE StartedAt: 2025-04-21 15:30:54 -0400 (Mon, 21 Apr 2025) EndedAt: 2025-04-21 15:31:26 -0400 (Mon, 21 Apr 2025) EllapsedTime: 32.2 seconds RetCode: 0 Status: OK