Package: NewWave Version: 1.18.0 Command: /Library/Frameworks/R.framework/Resources/bin/R CMD INSTALL NewWave StartedAt: 2025-10-13 16:40:11 -0400 (Mon, 13 Oct 2025) EndedAt: 2025-10-13 16:41:08 -0400 (Mon, 13 Oct 2025) EllapsedTime: 57.0 seconds RetCode: 0 Status: OK