Package: NewWave Version: 1.18.0 Command: /Library/Frameworks/R.framework/Resources/bin/R CMD build --keep-empty-dirs --no-resave-data NewWave StartedAt: 2025-10-13 21:07:26 -0400 (Mon, 13 Oct 2025) EndedAt: 2025-10-13 21:13:14 -0400 (Mon, 13 Oct 2025) EllapsedTime: 348.4 seconds RetCode: 0 Status: OK PackageFile: NewWave_1.18.0.tar.gz PackageFileSize: 97.86 KiB