Package: NewWave Version: 1.18.0 Command: /home/biocbuild/R/R/bin/R CMD build --keep-empty-dirs --no-resave-data NewWave StartedAt: 2025-10-14 03:04:21 -0000 (Tue, 14 Oct 2025) EndedAt: 2025-10-14 03:08:29 -0000 (Tue, 14 Oct 2025) EllapsedTime: 247.4 seconds RetCode: 0 Status: OK PackageFile: NewWave_1.18.0.tar.gz PackageFileSize: 77.98 KiB