Package: NeuCA Version: 1.14.0 Command: /Library/Frameworks/R.framework/Resources/bin/R CMD check --install=check:NeuCA.install-out.txt --library=/Library/Frameworks/R.framework/Resources/library --no-vignettes --timings NeuCA_1.14.0.tar.gz StartedAt: 2025-09-26 07:15:43 -0400 (Fri, 26 Sep 2025) EndedAt: 2025-09-26 07:22:33 -0400 (Fri, 26 Sep 2025) EllapsedTime: 409.6 seconds RetCode: 0 Status: OK CheckDir: NeuCA.Rcheck Warnings: 0