Package: NTW Version: 1.58.0 Command: rm -rf NTW.buildbin-libdir && mkdir NTW.buildbin-libdir && E:\biocbuild\bbs-3.21-bioc\R\bin\R.exe CMD INSTALL --build --library=NTW.buildbin-libdir NTW_1.58.0.tar.gz StartedAt: 2025-08-15 09:51:25 -0400 (Fri, 15 Aug 2025) EndedAt: 2025-08-15 09:51:32 -0400 (Fri, 15 Aug 2025) EllapsedTime: 6.1 seconds RetCode: 0 Status: OK PackageFile: NTW_1.58.0.zip PackageFileSize: 501.7 KiB