Package: NTW Version: 1.58.0 Command: /home/biocbuild/bbs-3.21-bioc/R/bin/R CMD check --install=check:NTW.install-out.txt --library=/home/biocbuild/bbs-3.21-bioc/R/site-library --timings NTW_1.58.0.tar.gz StartedAt: 2025-10-16 01:45:02 -0400 (Thu, 16 Oct 2025) EndedAt: 2025-10-16 01:45:33 -0400 (Thu, 16 Oct 2025) EllapsedTime: 30.1 seconds RetCode: 0 Status: WARNINGS CheckDir: NTW.Rcheck Warnings: 1