Package: NTW Version: 1.58.0 Command: /home/biocbuild/R/R/bin/R CMD INSTALL NTW StartedAt: 2025-10-13 20:15:28 -0000 (Mon, 13 Oct 2025) EndedAt: 2025-10-13 20:15:53 -0000 (Mon, 13 Oct 2025) EllapsedTime: 25.2 seconds RetCode: 0 Status: OK